BEGIN:VCALENDAR
VERSION:2.0
PRODID:-//www.rmdc.net//NONSGML kigkonsult.se iCalcreator 2.30.10//
CALSCALE:GREGORIAN
METHOD:PUBLISH
UID:176fd398-b525-462a-bda5-92da9b52de69
X-WR-CALDESC:Join us for a gentle exercise class!
X-WR-RELCALID:c2806e72aaa4a41d93112ffb5e13970a
X-WR-TIMEZONE:America/Denver
BEGIN:VTIMEZONE
TZID:America/Denver
BEGIN:STANDARD
TZNAME:MST
DTSTART:20301103T020000
TZOFFSETFROM:-0600
TZOFFSETTO:-0700
RDATE:20311102T020000
RDATE:20321107T020000
END:STANDARD
BEGIN:DAYLIGHT
TZNAME:MDT
DTSTART:20310309T020000
TZOFFSETFROM:-0700
TZOFFSETTO:-0600
RDATE:20320314T020000
END:DAYLIGHT
END:VTIMEZONE
BEGIN:VEVENT
UID:15b7b49b-436f-40b1-b74a-c490d7ae2cc3
DTSTAMP:20260424T062305Z
DESCRIPTION:Join us for a gentle exercise class!
DTSTART;TZID=America/Denver:20310820T103000
DTEND;TZID=America/Denver:20310820T110000
LOCATION:200 South Cruse\, Helena\, MT 59601 US
SUMMARY:Chi Gong
END:VEVENT
END:VCALENDAR
