BEGIN:VCALENDAR
VERSION:2.0
PRODID:-//www.rmdc.net//NONSGML kigkonsult.se iCalcreator 2.30.10//
CALSCALE:GREGORIAN
METHOD:PUBLISH
UID:c5e38310-d507-466f-ad13-b67cc0801e81
X-WR-CALDESC:
X-WR-RELCALID:071a73135832217f699a9ecc6329f2c0
X-WR-TIMEZONE:America/Denver
BEGIN:VTIMEZONE
TZID:America/Denver
BEGIN:STANDARD
TZNAME:MST
DTSTART:20301103T020000
TZOFFSETFROM:-0600
TZOFFSETTO:-0700
RDATE:20311102T020000
RDATE:20321107T020000
END:STANDARD
BEGIN:DAYLIGHT
TZNAME:MDT
DTSTART:20310309T020000
TZOFFSETFROM:-0700
TZOFFSETTO:-0600
RDATE:20320314T020000
END:DAYLIGHT
END:VTIMEZONE
BEGIN:VEVENT
UID:5fd4fa72-e473-421b-aa70-1422244e7a30
DTSTAMP:20260424T075202Z
DESCRIPTION:
DTSTART;TZID=America/Denver:20310902T130000
DTEND;TZID=America/Denver:20310902T160000
LOCATION:
SUMMARY:Pinochle
END:VEVENT
END:VCALENDAR
