BEGIN:VCALENDAR
VERSION:2.0
PRODID:-//www.rmdc.net//NONSGML kigkonsult.se iCalcreator 2.30.10//
CALSCALE:GREGORIAN
METHOD:PUBLISH
UID:d485c865-dcac-45e0-8225-2d3755ef692e
X-WR-CALDESC:
X-WR-RELCALID:34bb75aac5e24486ed1cf088a62de576
X-WR-TIMEZONE:America/Denver
BEGIN:VTIMEZONE
TZID:America/Denver
BEGIN:STANDARD
TZNAME:MST
DTSTART:20301103T020000
TZOFFSETFROM:-0600
TZOFFSETTO:-0700
RDATE:20311102T020000
RDATE:20321107T020000
END:STANDARD
BEGIN:DAYLIGHT
TZNAME:MDT
DTSTART:20310309T020000
TZOFFSETFROM:-0700
TZOFFSETTO:-0600
RDATE:20320314T020000
RDATE:20330313T020000
END:DAYLIGHT
END:VTIMEZONE
BEGIN:VEVENT
UID:8679df49-9121-4f15-9186-82d8b66b4f8e
DTSTAMP:20260424T075202Z
DESCRIPTION:
DTSTART;TZID=America/Denver:20310923T130000
DTEND;TZID=America/Denver:20310923T160000
LOCATION:
SUMMARY:Pinochle
END:VEVENT
END:VCALENDAR
