BEGIN:VCALENDAR
VERSION:2.0
PRODID:-//www.rmdc.net//NONSGML kigkonsult.se iCalcreator 2.30.10//
CALSCALE:GREGORIAN
METHOD:PUBLISH
UID:745d9be9-aa7b-407c-b7df-ff1d97e0e290
X-WR-CALDESC:Join us for a gentle exercise class!
X-WR-RELCALID:310977e66258ddf8d9cbf18dbff17820
X-WR-TIMEZONE:America/Denver
BEGIN:VTIMEZONE
TZID:America/Denver
BEGIN:STANDARD
TZNAME:MST
DTSTART:20301103T020000
TZOFFSETFROM:-0600
TZOFFSETTO:-0700
RDATE:20311102T020000
RDATE:20321107T020000
END:STANDARD
BEGIN:DAYLIGHT
TZNAME:MDT
DTSTART:20310309T020000
TZOFFSETFROM:-0700
TZOFFSETTO:-0600
RDATE:20320314T020000
RDATE:20330313T020000
END:DAYLIGHT
END:VTIMEZONE
BEGIN:VEVENT
UID:d0f7e377-1e2c-496d-b216-50d19377227d
DTSTAMP:20260424T091656Z
DESCRIPTION:Join us for a gentle exercise class!
DTSTART;TZID=America/Denver:20311008T103000
DTEND;TZID=America/Denver:20311008T110000
LOCATION:200 South Cruse\, Helena\, MT 59601 US
SUMMARY:Chi Gong
END:VEVENT
END:VCALENDAR
