BEGIN:VCALENDAR
VERSION:2.0
PRODID:-//www.rmdc.net//NONSGML kigkonsult.se iCalcreator 2.30.10//
CALSCALE:GREGORIAN
METHOD:PUBLISH
UID:1065c9b8-2c5e-465a-b585-78cdf552d201
X-WR-CALDESC:
X-WR-RELCALID:9fbb9f8d0513ef89f66a3fab9ea27430
X-WR-TIMEZONE:America/Denver
BEGIN:VTIMEZONE
TZID:America/Denver
BEGIN:STANDARD
TZNAME:MST
DTSTART:20301103T020000
TZOFFSETFROM:-0600
TZOFFSETTO:-0700
RDATE:20311102T020000
RDATE:20321107T020000
END:STANDARD
BEGIN:DAYLIGHT
TZNAME:MDT
DTSTART:20310309T020000
TZOFFSETFROM:-0700
TZOFFSETTO:-0600
RDATE:20320314T020000
RDATE:20330313T020000
END:DAYLIGHT
END:VTIMEZONE
BEGIN:VEVENT
UID:ee83083a-61ff-466c-b043-a3423e066103
DTSTAMP:20260424T091817Z
DESCRIPTION:
DTSTART;TZID=America/Denver:20311012T130000
DTEND;TZID=America/Denver:20311012T160000
LOCATION:
SUMMARY:Pinochle
END:VEVENT
END:VCALENDAR
