BEGIN:VCALENDAR
VERSION:2.0
PRODID:-//www.rmdc.net//NONSGML kigkonsult.se iCalcreator 2.30.10//
CALSCALE:GREGORIAN
METHOD:PUBLISH
UID:8facf97c-6fd3-4300-8ff9-93a32833cd03
X-WR-CALDESC:
X-WR-RELCALID:e23cf233d29c9f5760c55b082a4c8514
X-WR-TIMEZONE:America/Denver
BEGIN:VTIMEZONE
TZID:America/Denver
BEGIN:STANDARD
TZNAME:MST
DTSTART:20301103T020000
TZOFFSETFROM:-0600
TZOFFSETTO:-0700
RDATE:20311102T020000
RDATE:20321107T020000
END:STANDARD
BEGIN:DAYLIGHT
TZNAME:MDT
DTSTART:20310309T020000
TZOFFSETFROM:-0700
TZOFFSETTO:-0600
RDATE:20320314T020000
RDATE:20330313T020000
END:DAYLIGHT
END:VTIMEZONE
BEGIN:VEVENT
UID:1b702ae7-c0d4-4835-9b27-524889a59023
DTSTAMP:20260424T091825Z
DESCRIPTION:
DTSTART;TZID=America/Denver:20311014T130000
DTEND;TZID=America/Denver:20311014T160000
LOCATION:
SUMMARY:Pinochle
END:VEVENT
END:VCALENDAR
