BEGIN:VCALENDAR
VERSION:2.0
PRODID:-//www.rmdc.net//NONSGML kigkonsult.se iCalcreator 2.30.10//
CALSCALE:GREGORIAN
METHOD:PUBLISH
UID:0d551fec-21ae-4559-8e01-e66e4e3a001e
X-WR-CALDESC:
X-WR-RELCALID:b75a2b988bdb089603d446feca9d30b0
X-WR-TIMEZONE:America/Denver
BEGIN:VTIMEZONE
TZID:America/Denver
BEGIN:STANDARD
TZNAME:MST
DTSTART:20301103T020000
TZOFFSETFROM:-0600
TZOFFSETTO:-0700
RDATE:20311102T020000
RDATE:20321107T020000
END:STANDARD
BEGIN:DAYLIGHT
TZNAME:MDT
DTSTART:20310309T020000
TZOFFSETFROM:-0700
TZOFFSETTO:-0600
RDATE:20320314T020000
RDATE:20330313T020000
END:DAYLIGHT
END:VTIMEZONE
BEGIN:VEVENT
UID:7b783280-2e12-415d-9f2d-1f8916f85824
DTSTAMP:20260424T091851Z
DESCRIPTION:
DTSTART;TZID=America/Denver:20311028T130000
DTEND;TZID=America/Denver:20311028T160000
LOCATION:
SUMMARY:Pinochle
END:VEVENT
END:VCALENDAR
