BEGIN:VCALENDAR
VERSION:2.0
PRODID:-//www.rmdc.net//NONSGML kigkonsult.se iCalcreator 2.30.10//
CALSCALE:GREGORIAN
METHOD:PUBLISH
UID:e557912e-b04b-47bd-a9d1-6a5f1a690bad
X-WR-CALDESC:Join us for a gentle exercise class!
X-WR-RELCALID:72e6cf73e01b893a9c2d6b06a36fb0a9
X-WR-TIMEZONE:America/Denver
BEGIN:VTIMEZONE
TZID:America/Denver
BEGIN:STANDARD
TZNAME:MST
DTSTART:20301103T020000
TZOFFSETFROM:-0600
TZOFFSETTO:-0700
RDATE:20311102T020000
RDATE:20321107T020000
END:STANDARD
BEGIN:DAYLIGHT
TZNAME:MDT
DTSTART:20310309T020000
TZOFFSETFROM:-0700
TZOFFSETTO:-0600
RDATE:20320314T020000
RDATE:20330313T020000
END:DAYLIGHT
END:VTIMEZONE
BEGIN:VEVENT
UID:d68f030b-2481-48a7-9d0c-9149edd6151b
DTSTAMP:20260424T091817Z
DESCRIPTION:Join us for a gentle exercise class!
DTSTART;TZID=America/Denver:20311029T103000
DTEND;TZID=America/Denver:20311029T110000
LOCATION:200 South Cruse\, Helena\, MT 59601 US
SUMMARY:Chi Gong
END:VEVENT
END:VCALENDAR
