BEGIN:VCALENDAR
VERSION:2.0
PRODID:-//www.rmdc.net//NONSGML kigkonsult.se iCalcreator 2.30.10//
CALSCALE:GREGORIAN
METHOD:PUBLISH
UID:a803ecb5-1ccd-4243-bc83-9e5de51a343f
X-WR-CALDESC:Join us for a gentle exercise class!
X-WR-RELCALID:fe1cd950f7f0ea10a69f0b871020bbb1
X-WR-TIMEZONE:America/Denver
BEGIN:VTIMEZONE
TZID:America/Denver
BEGIN:STANDARD
TZNAME:MST
DTSTART:20311102T020000
TZOFFSETFROM:-0600
TZOFFSETTO:-0700
RDATE:20321107T020000
END:STANDARD
BEGIN:DAYLIGHT
TZNAME:MDT
DTSTART:20310309T020000
TZOFFSETFROM:-0700
TZOFFSETTO:-0600
RDATE:20320314T020000
RDATE:20330313T020000
END:DAYLIGHT
END:VTIMEZONE
BEGIN:VEVENT
UID:8779fa3e-5956-4df6-8aad-40bcea0281b8
DTSTAMP:20260424T103702Z
DESCRIPTION:Join us for a gentle exercise class!
DTSTART;TZID=America/Denver:20311126T103000
DTEND;TZID=America/Denver:20311126T110000
LOCATION:200 South Cruse\, Helena\, MT 59601 US
SUMMARY:Chi Gong
END:VEVENT
END:VCALENDAR
