BEGIN:VCALENDAR
VERSION:2.0
PRODID:-//www.rmdc.net//NONSGML kigkonsult.se iCalcreator 2.30.10//
CALSCALE:GREGORIAN
METHOD:PUBLISH
UID:72c8c9fc-a3e8-47a3-8c39-b8cb1e37d27e
X-WR-CALDESC:Meet with Ann\, a representative from Montana Generational Jus
 tice\, for a free consultation on estate planning. \n \nAnn can be found i
 n the Neighborhood Center Dining Room on the second Wednesday of each mont
 h from 11:30 am to 12:30 pm. \n \n
X-WR-RELCALID:17d12752372903dc6242916a18ccd11e
X-WR-TIMEZONE:America/Denver
BEGIN:VTIMEZONE
TZID:America/Denver
BEGIN:STANDARD
TZNAME:MST
DTSTART:20311102T020000
TZOFFSETFROM:-0600
TZOFFSETTO:-0700
RDATE:20321107T020000
END:STANDARD
BEGIN:DAYLIGHT
TZNAME:MDT
DTSTART:20310309T020000
TZOFFSETFROM:-0700
TZOFFSETTO:-0600
RDATE:20320314T020000
RDATE:20330313T020000
END:DAYLIGHT
END:VTIMEZONE
BEGIN:VEVENT
UID:4f419212-7872-41b0-a1bb-371fc233c3a9
DTSTAMP:20260424T115902Z
DESCRIPTION:Meet with Ann\, a representative from Montana Generational Just
 ice\, for a free consultation on estate planning. \n \nAnn can be found in
  the Neighborhood Center Dining Room on the second Wednesday of each month
  from 11:30 am to 12:30 pm. \n \n
DTSTART;TZID=America/Denver:20311210T110000
DTEND;TZID=America/Denver:20311210T123000
LOCATION:200 South Cruse\, Helena\, AL 59601 US
SUMMARY:Estate Planning with Ann
END:VEVENT
END:VCALENDAR
