BEGIN:VCALENDAR
VERSION:2.0
PRODID:-//www.rmdc.net//NONSGML kigkonsult.se iCalcreator 2.30.10//
CALSCALE:GREGORIAN
METHOD:PUBLISH
UID:8c9fb966-f8b9-433a-9611-1cf69b7be4dc
X-WR-CALDESC:
X-WR-RELCALID:fea06fdf3a1a8c53e437c3b236bd08da
X-WR-TIMEZONE:America/Denver
BEGIN:VTIMEZONE
TZID:America/Denver
BEGIN:STANDARD
TZNAME:MST
DTSTART:20311102T020000
TZOFFSETFROM:-0600
TZOFFSETTO:-0700
RDATE:20321107T020000
END:STANDARD
BEGIN:DAYLIGHT
TZNAME:MDT
DTSTART:20310309T020000
TZOFFSETFROM:-0700
TZOFFSETTO:-0600
RDATE:20320314T020000
RDATE:20330313T020000
END:DAYLIGHT
END:VTIMEZONE
BEGIN:VEVENT
UID:df9fdae0-16d3-4112-8d83-7363ab7a0b2a
DTSTAMP:20260424T115400Z
DESCRIPTION:
DTSTART;TZID=America/Denver:20311224T110000
DTEND;TZID=America/Denver:20311224T120000
LOCATION:200 South Cruse\, Helena\, MT 59601 US
SUMMARY:Tech Time With Mary
END:VEVENT
END:VCALENDAR
