BEGIN:VCALENDAR
VERSION:2.0
PRODID:-//www.rmdc.net//NONSGML kigkonsult.se iCalcreator 2.30.10//
CALSCALE:GREGORIAN
METHOD:PUBLISH
UID:82d9ae31-8a8d-41f5-a419-71bc35cf3bff
X-WR-CALDESC:
X-WR-RELCALID:407c044c353e7289be6686f9d0492a70
X-WR-TIMEZONE:America/Denver
BEGIN:VTIMEZONE
TZID:America/Denver
BEGIN:STANDARD
TZNAME:MST
DTSTART:20311102T020000
TZOFFSETFROM:-0600
TZOFFSETTO:-0700
RDATE:20321107T020000
END:STANDARD
BEGIN:DAYLIGHT
TZNAME:MDT
DTSTART:20310309T020000
TZOFFSETFROM:-0700
TZOFFSETTO:-0600
RDATE:20320314T020000
RDATE:20330313T020000
END:DAYLIGHT
END:VTIMEZONE
BEGIN:VEVENT
UID:a77581c5-d422-4eb6-adae-4bffa09c9c63
DTSTAMP:20260424T115521Z
DESCRIPTION:
DTSTART;TZID=America/Denver:20311228T130000
DTEND;TZID=America/Denver:20311228T160000
LOCATION:
SUMMARY:Pinochle
END:VEVENT
END:VCALENDAR
