BEGIN:VCALENDAR
VERSION:2.0
PRODID:-//www.rmdc.net//NONSGML kigkonsult.se iCalcreator 2.30.10//
CALSCALE:GREGORIAN
METHOD:PUBLISH
UID:36b8ed3a-6ddc-49ec-ab9d-bd6ebcc26542
X-WR-CALDESC:Grocery Packing for Seniors\n\nOne of the services Rocky's Sen
 ior Nutrition Program offers low-income seniors\, is a food box through th
 e Commodity Supplemental Food Program (CSFP). Every two months\, we distri
 bute boxes consisting of a combination of dry cereals\, shelf-stable milk\
 , canned fruits and vegetables\, pasta\, canned meat (beef\, chicken\, or 
 tuna)\, juices and an array of other essential food items. These products 
 help our client's supplement their monthly nutrition needs\, and thus aid 
 with their expenses of essential daily living.\n\nLarge pallets of food ar
 e delivered to a warehouse. We need your help to sort and package these it
 ems into single client allotments so they can be delivered to the seniors 
 who need them.\n\nThis is a PHYSICALLY DEMANDING JOB. Volunteers must be a
 ble to lift at least 25 lbs. and should be comfortable standing/working on
  cement floors in a warehouse. That being said\, you can get a great worko
 ut while helping seniors! This is an unheated/uncooled warehouse\, so plea
 se keep this in mind if you are interested in helping. Depending on the se
 ason\, dressing in layers is a good idea. There are 3 time-slots:\n\nThurs
 day\, May 12 - 8:15 am-12:30 pm and 12:30 pm-4:45 pm\n\nFriday\, May 13 - 
 8:15 am-12:30 pm\n\n***Please bring a drink and snack if desired.\nPlease 
 use the link below to sign-up.
X-WR-RELCALID:2de9514e0cc1ccc66093a3a8f7e0346f
X-WR-TIMEZONE:America/Denver
BEGIN:VTIMEZONE
TZID:America/Denver
BEGIN:STANDARD
TZNAME:MST
DTSTART:20211107T020000
TZOFFSETFROM:-0600
TZOFFSETTO:-0700
RDATE:20221106T020000
RDATE:20231105T020000
END:STANDARD
BEGIN:DAYLIGHT
TZNAME:MDT
DTSTART:20220313T020000
TZOFFSETFROM:-0700
TZOFFSETTO:-0600
RDATE:20230312T020000
END:DAYLIGHT
END:VTIMEZONE
BEGIN:VEVENT
UID:e0ddc11c-1849-4ec7-ba7f-ea9998c19e02
DTSTAMP:20260423T063459Z
DESCRIPTION:Grocery Packing for Seniors\n\nOne of the services Rocky's Seni
 or Nutrition Program offers low-income seniors\, is a food box through the
  Commodity Supplemental Food Program (CSFP). Every two months\, we distrib
 ute boxes consisting of a combination of dry cereals\, shelf-stable milk\,
  canned fruits and vegetables\, pasta\, canned meat (beef\, chicken\, or t
 una)\, juices and an array of other essential food items. These products h
 elp our client's supplement their monthly nutrition needs\, and thus aid w
 ith their expenses of essential daily living.\n\nLarge pallets of food are
  delivered to a warehouse. We need your help to sort and package these ite
 ms into single client allotments so they can be delivered to the seniors w
 ho need them.\n\nThis is a PHYSICALLY DEMANDING JOB. Volunteers must be ab
 le to lift at least 25 lbs. and should be comfortable standing/working on 
 cement floors in a warehouse. That being said\, you can get a great workou
 t while helping seniors! This is an unheated/uncooled warehouse\, so pleas
 e keep this in mind if you are interested in helping. Depending on the sea
 son\, dressing in layers is a good idea. There are 3 time-slots:\n\nThursd
 ay\, May 12 - 8:15 am-12:30 pm and 12:30 pm-4:45 pm\n\nFriday\, May 13 - 8
 :15 am-12:30 pm\n\n***Please bring a drink and snack if desired.\nPlease u
 se the link below to sign-up.
DTSTART;TZID=America/Denver:20220513T081500
DTEND;TZID=America/Denver:20220513T164500
LOCATION:Please sign up before arrival at Capital Transfer and Storage. Pac
 king will be held at Capital Transfer and Storage 1316 Bozeman Ave. Helena
 \, Montana 59601
SUMMARY:Grocery Packing for Seniors
END:VEVENT
END:VCALENDAR
