BEGIN:VCALENDAR
VERSION:2.0
PRODID:-//www.rmdc.net//NONSGML kigkonsult.se iCalcreator 2.30.10//
CALSCALE:GREGORIAN
METHOD:PUBLISH
UID:fe7c038c-42ee-402d-b134-49a42afcea41
X-WR-CALDESC:
X-WR-RELCALID:facf58dbc9c5fc8e75566378e2e36629
X-WR-TIMEZONE:America/Denver
BEGIN:VTIMEZONE
TZID:America/Denver
BEGIN:STANDARD
TZNAME:MST
DTSTART:20211107T020000
TZOFFSETFROM:-0600
TZOFFSETTO:-0700
RDATE:20221106T020000
RDATE:20231105T020000
END:STANDARD
BEGIN:DAYLIGHT
TZNAME:MDT
DTSTART:20220313T020000
TZOFFSETFROM:-0700
TZOFFSETTO:-0600
RDATE:20230312T020000
END:DAYLIGHT
END:VTIMEZONE
BEGIN:VEVENT
UID:a0ca88a7-adb5-4f5d-b31e-1d327e089135
DTSTAMP:20260423T063556Z
DESCRIPTION:
DTSTART;TZID=America/Denver:20220521T120000
DTEND;TZID=America/Denver:20220521T140000
LOCATION:111 N. Rodney Street\, Helena\, MT 59601 US
SUMMARY:Rodney Street Block Party
END:VEVENT
END:VCALENDAR
