BEGIN:VCALENDAR
VERSION:2.0
PRODID:-//www.rmdc.net//NONSGML kigkonsult.se iCalcreator 2.30.10//
CALSCALE:GREGORIAN
METHOD:PUBLISH
UID:f5dd97aa-af28-4ebe-aef8-ee687dd6487a
X-WR-CALDESC:One of the services Rocky's Senior Nutrition Program offers lo
 w-income seniors\, is a food box through the Commodity Supplemental Food P
 rogram (CSFP). Every two months\, we distribute boxes consisting of a comb
 ination of dry cereals\, shelf-stable milk\, canned fruits and vegetables\
 , pasta\, canned meat (beef\, chicken\, or tuna)\, juices and an array of 
 other essential food items. These products help our client's supplement th
 eir monthly nutrition needs\, and decrease their grocery costs allowing th
 em to save the 'extra' income for other important items like prescriptions
 \, pet food\, and rent.\nLarge pallets of food are delivered to a warehous
 e. We need your help to sort and package these items into single client al
 lotments so they can be delivered to the seniors who need them.\nThis is a
  PHYSICALLY DEMANDING JOB. Volunteers must be able to lift at least 25 lbs
 . and should be comfortable standing/working on cement floors in a warehou
 se. That being said\, you can get a great workout while helping seniors! T
 his is an unheated/uncooled warehouse\, so please keep this in mind if you
  are interested in helping. Depending on the season\, dressing in layers i
 s a good idea. Disposable gloves and masks will be available.
X-WR-RELCALID:dc978619c846a3e65fbd35f174b478af
X-WR-TIMEZONE:America/Denver
BEGIN:VTIMEZONE
TZID:America/Denver
BEGIN:STANDARD
TZNAME:MST
DTSTART:20221106T020000
TZOFFSETFROM:-0600
TZOFFSETTO:-0700
RDATE:20231105T020000
RDATE:20241103T020000
END:STANDARD
BEGIN:DAYLIGHT
TZNAME:MDT
DTSTART:20230312T020000
TZOFFSETFROM:-0700
TZOFFSETTO:-0600
RDATE:20240310T020000
END:DAYLIGHT
END:VTIMEZONE
BEGIN:VEVENT
UID:68545a91-ee52-4272-ad4d-2326a12e3701
DTSTAMP:20260422T092606Z
DESCRIPTION:One of the services Rocky's Senior Nutrition Program offers low
 -income seniors\, is a food box through the Commodity Supplemental Food Pr
 ogram (CSFP). Every two months\, we distribute boxes consisting of a combi
 nation of dry cereals\, shelf-stable milk\, canned fruits and vegetables\,
  pasta\, canned meat (beef\, chicken\, or tuna)\, juices and an array of o
 ther essential food items. These products help our client's supplement the
 ir monthly nutrition needs\, and decrease their grocery costs allowing the
 m to save the 'extra' income for other important items like prescriptions\
 , pet food\, and rent.\nLarge pallets of food are delivered to a warehouse
 . We need your help to sort and package these items into single client all
 otments so they can be delivered to the seniors who need them.\nThis is a 
 PHYSICALLY DEMANDING JOB. Volunteers must be able to lift at least 25 lbs.
  and should be comfortable standing/working on cement floors in a warehous
 e. That being said\, you can get a great workout while helping seniors! Th
 is is an unheated/uncooled warehouse\, so please keep this in mind if you 
 are interested in helping. Depending on the season\, dressing in layers is
  a good idea. Disposable gloves and masks will be available.
DTSTART;TZID=America/Denver:20230720T081500
DTEND;TZID=America/Denver:20230720T164500
LOCATION:
SUMMARY:Grocery Packing for Seniors
END:VEVENT
END:VCALENDAR
