BEGIN:VCALENDAR
VERSION:2.0
PRODID:-//www.rmdc.net//NONSGML kigkonsult.se iCalcreator 2.30.10//
CALSCALE:GREGORIAN
METHOD:PUBLISH
UID:881f358c-402d-4a5a-94cf-3b6271f22921
X-WR-CALDESC:
X-WR-RELCALID:f98c0be43c602ec3c7c7a7aa957f3a68
X-WR-TIMEZONE:America/Denver
BEGIN:VTIMEZONE
TZID:America/Denver
BEGIN:STANDARD
TZNAME:MST
DTSTART:20231105T020000
TZOFFSETFROM:-0600
TZOFFSETTO:-0700
RDATE:20241103T020000
RDATE:20251102T020000
END:STANDARD
BEGIN:DAYLIGHT
TZNAME:MDT
DTSTART:20240310T020000
TZOFFSETFROM:-0700
TZOFFSETTO:-0600
RDATE:20250309T020000
RDATE:20260308T020000
END:DAYLIGHT
END:VTIMEZONE
BEGIN:VEVENT
UID:0397ee5d-b507-4c2c-b3e6-1d74d0ae26a7
DTSTAMP:20260424T144250Z
DESCRIPTION:
DTSTART;TZID=America/Denver:20241003T173000
DTEND;TZID=America/Denver:20241003T203000
LOCATION:Delta Hotels by Marriott Helena Colonial 2301 Colonial Dr\, Helena
 \, MT 59601
SUMMARY:Friends of Head Start Extravaganza  2024
END:VEVENT
END:VCALENDAR
