BEGIN:VCALENDAR
VERSION:2.0
PRODID:-//www.rmdc.net//NONSGML kigkonsult.se iCalcreator 2.30.10//
CALSCALE:GREGORIAN
METHOD:PUBLISH
UID:0930e809-7635-43c6-acb1-fee2a46484ce
X-WR-CALDESC:Celebrate Rocky's Head Start Program at the Friends of Head St
 art Extravaganza! The event will include a live and silent auction\, fine 
 foods\, live music\, and guest speakers\, including former Governor Steve 
 Bullock!
X-WR-RELCALID:81733015a8263deb6c7b8b6c194237f4
X-WR-TIMEZONE:America/Denver
BEGIN:VTIMEZONE
TZID:America/Denver
BEGIN:STANDARD
TZNAME:MST
DTSTART:20241103T020000
TZOFFSETFROM:-0600
TZOFFSETTO:-0700
RDATE:20251102T020000
RDATE:20261101T020000
END:STANDARD
BEGIN:DAYLIGHT
TZNAME:MDT
DTSTART:20250309T020000
TZOFFSETFROM:-0700
TZOFFSETTO:-0600
RDATE:20260308T020000
RDATE:20270314T020000
END:DAYLIGHT
END:VTIMEZONE
BEGIN:VEVENT
UID:cb933602-a4e1-4705-9192-bd99401b3a76
DTSTAMP:20260423T071622Z
DESCRIPTION:Celebrate Rocky's Head Start Program at the Friends of Head Sta
 rt Extravaganza! The event will include a live and silent auction\, fine f
 oods\, live music\, and guest speakers\, including former Governor Steve B
 ullock!
DTSTART;TZID=America/Denver:20251016T173000
DTEND;TZID=America/Denver:20251016T203000
LOCATION:Brothers Tapworks 40 S Last Chance Gulch
SUMMARY:Friends of Head Start Extravaganza 2025
END:VEVENT
END:VCALENDAR
