BEGIN:VCALENDAR
VERSION:2.0
PRODID:-//www.rmdc.net//NONSGML kigkonsult.se iCalcreator 2.30.10//
CALSCALE:GREGORIAN
METHOD:PUBLISH
UID:cffed6de-7485-485a-a1d6-b86d899e9ac6
X-WR-CALDESC:
X-WR-RELCALID:98483172e4a90322b0e5e43c16ae0969
X-WR-TIMEZONE:America/Denver
BEGIN:VTIMEZONE
TZID:America/Denver
BEGIN:STANDARD
TZNAME:MST
DTSTART:20231105T020000
TZOFFSETFROM:-0600
TZOFFSETTO:-0700
RDATE:20241103T020000
RDATE:20251102T020000
END:STANDARD
BEGIN:DAYLIGHT
TZNAME:MDT
DTSTART:20240310T020000
TZOFFSETFROM:-0700
TZOFFSETTO:-0600
RDATE:20250309T020000
END:DAYLIGHT
END:VTIMEZONE
BEGIN:VEVENT
UID:7a1e8df3-23ad-46d9-9fcc-bac5cb98aa49
DTSTAMP:20260425T003242Z
DESCRIPTION:
DTSTART;TZID=America/Denver:20240609T130000
DTEND;TZID=America/Denver:20240609T160000
LOCATION:
SUMMARY:Pinochle
END:VEVENT
END:VCALENDAR
