BEGIN:VCALENDAR
VERSION:2.0
PRODID:-//www.rmdc.net//NONSGML kigkonsult.se iCalcreator 2.30.10//
CALSCALE:GREGORIAN
METHOD:PUBLISH
UID:86331c31-4510-4c9c-b009-56aa8a69a8e2
X-WR-CALDESC:
X-WR-RELCALID:e34e4b2f302cb538db21bab173ebbc64
X-WR-TIMEZONE:America/Denver
BEGIN:VTIMEZONE
TZID:America/Denver
BEGIN:STANDARD
TZNAME:MST
DTSTART:20231105T020000
TZOFFSETFROM:-0600
TZOFFSETTO:-0700
RDATE:20241103T020000
RDATE:20251102T020000
END:STANDARD
BEGIN:DAYLIGHT
TZNAME:MDT
DTSTART:20240310T020000
TZOFFSETFROM:-0700
TZOFFSETTO:-0600
RDATE:20250309T020000
END:DAYLIGHT
END:VTIMEZONE
BEGIN:VEVENT
UID:cb4c33eb-5b2b-4cc2-95a1-6f85ea51e61a
DTSTAMP:20260425T004308Z
DESCRIPTION:
DTSTART;TZID=America/Denver:20240620T080000
DTEND;TZID=America/Denver:20240620T093000
LOCATION:200 South Cruse\, Helena\, MT 59601 US
SUMMARY:Coffee and Rolls
END:VEVENT
END:VCALENDAR
