BEGIN:VCALENDAR
VERSION:2.0
PRODID:-//www.rmdc.net//NONSGML kigkonsult.se iCalcreator 2.30.10//
CALSCALE:GREGORIAN
METHOD:PUBLISH
UID:fad3849f-db7e-44f1-a943-c19bacae1c11
X-WR-CALDESC:
X-WR-RELCALID:21a516e9c3290d13ce7e72f380a01cbe
X-WR-TIMEZONE:America/Denver
BEGIN:VTIMEZONE
TZID:America/Denver
BEGIN:STANDARD
TZNAME:MST
DTSTART:20231105T020000
TZOFFSETFROM:-0600
TZOFFSETTO:-0700
RDATE:20241103T020000
RDATE:20251102T020000
END:STANDARD
BEGIN:DAYLIGHT
TZNAME:MDT
DTSTART:20240310T020000
TZOFFSETFROM:-0700
TZOFFSETTO:-0600
RDATE:20250309T020000
RDATE:20260308T020000
END:DAYLIGHT
END:VTIMEZONE
BEGIN:VEVENT
UID:5266722c-4efb-4f8a-b846-64dcb136951d
DTSTAMP:20260424T202503Z
DESCRIPTION:
DTSTART;TZID=America/Denver:20240922T130000
DTEND;TZID=America/Denver:20240922T160000
LOCATION:
SUMMARY:Pinochle
END:VEVENT
END:VCALENDAR
