BEGIN:VCALENDAR
VERSION:2.0
PRODID:-//www.rmdc.net//NONSGML kigkonsult.se iCalcreator 2.30.10//
CALSCALE:GREGORIAN
METHOD:PUBLISH
UID:9e3307e8-c69e-44bc-9eaa-6562b9401647
X-WR-CALDESC:
X-WR-RELCALID:aa82082380f6c1d1b0ee102726cc2c96
X-WR-TIMEZONE:America/Denver
BEGIN:VTIMEZONE
TZID:America/Denver
BEGIN:STANDARD
TZNAME:MST
DTSTART:20231105T020000
TZOFFSETFROM:-0600
TZOFFSETTO:-0700
RDATE:20241103T020000
RDATE:20251102T020000
END:STANDARD
BEGIN:DAYLIGHT
TZNAME:MDT
DTSTART:20240310T020000
TZOFFSETFROM:-0700
TZOFFSETTO:-0600
RDATE:20250309T020000
RDATE:20260308T020000
END:DAYLIGHT
END:VTIMEZONE
BEGIN:VEVENT
UID:30b7bda8-03a9-47f3-837c-8b7d5e4ba9a5
DTSTAMP:20260424T190649Z
DESCRIPTION:
DTSTART;TZID=America/Denver:20241006T130000
DTEND;TZID=America/Denver:20241006T160000
LOCATION:
SUMMARY:Pinochle
END:VEVENT
END:VCALENDAR
