BEGIN:VCALENDAR
VERSION:2.0
PRODID:-//www.rmdc.net//NONSGML kigkonsult.se iCalcreator 2.30.10//
CALSCALE:GREGORIAN
METHOD:PUBLISH
UID:2c965238-e709-4a04-b20a-8b339f621505
X-WR-CALDESC:
X-WR-RELCALID:7aed67a52abd36253ce99bc4152bf095
X-WR-TIMEZONE:America/Denver
BEGIN:VTIMEZONE
TZID:America/Denver
BEGIN:STANDARD
TZNAME:MST
DTSTART:20241103T020000
TZOFFSETFROM:-0600
TZOFFSETTO:-0700
RDATE:20251102T020000
END:STANDARD
BEGIN:DAYLIGHT
TZNAME:MDT
DTSTART:20240310T020000
TZOFFSETFROM:-0700
TZOFFSETTO:-0600
RDATE:20250309T020000
RDATE:20260308T020000
END:DAYLIGHT
END:VTIMEZONE
BEGIN:VEVENT
UID:bdff5814-b5b4-4c11-b7f4-e6f0a837bf4f
DTSTAMP:20260424T163517Z
DESCRIPTION:
DTSTART;TZID=America/Denver:20250112T130000
DTEND;TZID=America/Denver:20250112T160000
LOCATION:
SUMMARY:Pinochle
END:VEVENT
END:VCALENDAR
