BEGIN:VCALENDAR
VERSION:2.0
PRODID:-//www.rmdc.net//NONSGML kigkonsult.se iCalcreator 2.30.10//
CALSCALE:GREGORIAN
METHOD:PUBLISH
UID:bcaadb63-2a68-4d69-84b5-bf3bbeae115c
X-WR-CALDESC:
X-WR-RELCALID:cf4309b30806fd9dea56dd908640b084
X-WR-TIMEZONE:America/Denver
BEGIN:VTIMEZONE
TZID:America/Denver
BEGIN:STANDARD
TZNAME:MST
DTSTART:20241103T020000
TZOFFSETFROM:-0600
TZOFFSETTO:-0700
RDATE:20251102T020000
END:STANDARD
BEGIN:DAYLIGHT
TZNAME:MDT
DTSTART:20240310T020000
TZOFFSETFROM:-0700
TZOFFSETTO:-0600
RDATE:20250309T020000
RDATE:20260308T020000
END:DAYLIGHT
END:VTIMEZONE
BEGIN:VEVENT
UID:27901472-941c-4929-b210-f46cb648550c
DTSTAMP:20260424T151623Z
DESCRIPTION:
DTSTART;TZID=America/Denver:20250209T130000
DTEND;TZID=America/Denver:20250209T160000
LOCATION:
SUMMARY:Pinochle
END:VEVENT
END:VCALENDAR
