BEGIN:VCALENDAR
VERSION:2.0
PRODID:-//www.rmdc.net//NONSGML kigkonsult.se iCalcreator 2.30.10//
CALSCALE:GREGORIAN
METHOD:PUBLISH
UID:e4af5d88-5b42-44ea-8659-0f8e53a0549c
X-WR-CALDESC:
X-WR-RELCALID:45b64912c5c8c9c2c94de7556117d03d
X-WR-TIMEZONE:America/Denver
BEGIN:VTIMEZONE
TZID:America/Denver
BEGIN:STANDARD
TZNAME:MST
DTSTART:20241103T020000
TZOFFSETFROM:-0600
TZOFFSETTO:-0700
RDATE:20251102T020000
END:STANDARD
BEGIN:DAYLIGHT
TZNAME:MDT
DTSTART:20240310T020000
TZOFFSETFROM:-0700
TZOFFSETTO:-0600
RDATE:20250309T020000
RDATE:20260308T020000
END:DAYLIGHT
END:VTIMEZONE
BEGIN:VEVENT
UID:1cc8a36b-94f5-4e80-94f5-c27926fc4ed3
DTSTAMP:20260424T134841Z
DESCRIPTION:
DTSTART;TZID=America/Denver:20250216T130000
DTEND;TZID=America/Denver:20250216T160000
LOCATION:
SUMMARY:Pinochle
END:VEVENT
END:VCALENDAR
