BEGIN:VCALENDAR
VERSION:2.0
PRODID:-//www.rmdc.net//NONSGML kigkonsult.se iCalcreator 2.30.10//
CALSCALE:GREGORIAN
METHOD:PUBLISH
UID:e1707e9e-d112-4be0-b063-1b8794c9cf93
X-WR-CALDESC:
X-WR-RELCALID:c4760126623477cc1d61b74f49a93cde
X-WR-TIMEZONE:America/Denver
BEGIN:VTIMEZONE
TZID:America/Denver
BEGIN:STANDARD
TZNAME:MST
DTSTART:20241103T020000
TZOFFSETFROM:-0600
TZOFFSETTO:-0700
RDATE:20251102T020000
END:STANDARD
BEGIN:DAYLIGHT
TZNAME:MDT
DTSTART:20250309T020000
TZOFFSETFROM:-0700
TZOFFSETTO:-0600
RDATE:20260308T020000
END:DAYLIGHT
END:VTIMEZONE
BEGIN:VEVENT
UID:59ccfb98-a5a8-4ab0-aafc-b514f2b64739
DTSTAMP:20260424T111046Z
DESCRIPTION:
DTSTART;TZID=America/Denver:20250406T130000
DTEND;TZID=America/Denver:20250406T160000
LOCATION:
SUMMARY:Pinochle
END:VEVENT
END:VCALENDAR
