BEGIN:VCALENDAR
VERSION:2.0
PRODID:-//www.rmdc.net//NONSGML kigkonsult.se iCalcreator 2.30.10//
CALSCALE:GREGORIAN
METHOD:PUBLISH
UID:3bff5dea-ba4c-4dc8-b31f-9f04868b13d9
X-WR-CALDESC:
X-WR-RELCALID:a47959a995dddc917cb6fe3a72d2e6a1
X-WR-TIMEZONE:America/Denver
BEGIN:VTIMEZONE
TZID:America/Denver
BEGIN:STANDARD
TZNAME:MST
DTSTART:20241103T020000
TZOFFSETFROM:-0600
TZOFFSETTO:-0700
RDATE:20251102T020000
END:STANDARD
BEGIN:DAYLIGHT
TZNAME:MDT
DTSTART:20250309T020000
TZOFFSETFROM:-0700
TZOFFSETTO:-0600
RDATE:20260308T020000
END:DAYLIGHT
END:VTIMEZONE
BEGIN:VEVENT
UID:369b5a10-74d7-40cf-ba05-0bb8f94a7fcf
DTSTAMP:20260424T105839Z
DESCRIPTION:
DTSTART;TZID=America/Denver:20250416T130000
DTEND;TZID=America/Denver:20250416T150000
LOCATION:Dining Room
SUMMARY:Bingo
END:VEVENT
END:VCALENDAR
