BEGIN:VCALENDAR
VERSION:2.0
PRODID:-//www.rmdc.net//NONSGML kigkonsult.se iCalcreator 2.30.10//
CALSCALE:GREGORIAN
METHOD:PUBLISH
UID:9d1671f6-0a9e-4adf-96ee-d56d2a106b01
X-WR-CALDESC:
X-WR-RELCALID:60ccb98dd74cd9a120c190b8dfdf5dd0
X-WR-TIMEZONE:America/Denver
BEGIN:VTIMEZONE
TZID:America/Denver
BEGIN:STANDARD
TZNAME:MST
DTSTART:20241103T020000
TZOFFSETFROM:-0600
TZOFFSETTO:-0700
RDATE:20251102T020000
END:STANDARD
BEGIN:DAYLIGHT
TZNAME:MDT
DTSTART:20250309T020000
TZOFFSETFROM:-0700
TZOFFSETTO:-0600
RDATE:20260308T020000
END:DAYLIGHT
END:VTIMEZONE
BEGIN:VEVENT
UID:561f7aa5-3317-4e80-b741-d86de7f7c70c
DTSTAMP:20260424T111011Z
DESCRIPTION:
DTSTART;TZID=America/Denver:20250417T080000
DTEND;TZID=America/Denver:20250417T093000
LOCATION:200 South Cruse\, Helena\, MT 59601 US
SUMMARY:Coffee and Rolls
END:VEVENT
END:VCALENDAR
