BEGIN:VCALENDAR
VERSION:2.0
PRODID:-//www.rmdc.net//NONSGML kigkonsult.se iCalcreator 2.30.10//
CALSCALE:GREGORIAN
METHOD:PUBLISH
UID:6b9b2f03-2181-4656-b383-90188947e4cc
X-WR-CALDESC:
X-WR-RELCALID:9c5d53774b2a4acc804c73edaf8c40cc
X-WR-TIMEZONE:America/Denver
BEGIN:VTIMEZONE
TZID:America/Denver
BEGIN:STANDARD
TZNAME:MST
DTSTART:20241103T020000
TZOFFSETFROM:-0600
TZOFFSETTO:-0700
RDATE:20251102T020000
END:STANDARD
BEGIN:DAYLIGHT
TZNAME:MDT
DTSTART:20250309T020000
TZOFFSETFROM:-0700
TZOFFSETTO:-0600
RDATE:20260308T020000
END:DAYLIGHT
END:VTIMEZONE
BEGIN:VEVENT
UID:4ff88284-ae06-4f88-9c28-eba51c961846
DTSTAMP:20260424T110743Z
DESCRIPTION:
DTSTART;TZID=America/Denver:20250427T130000
DTEND;TZID=America/Denver:20250427T160000
LOCATION:
SUMMARY:Pinochle
END:VEVENT
END:VCALENDAR
