BEGIN:VCALENDAR
VERSION:2.0
PRODID:-//www.rmdc.net//NONSGML kigkonsult.se iCalcreator 2.30.10//
CALSCALE:GREGORIAN
METHOD:PUBLISH
UID:f4d8c988-1d71-415b-9452-5c2d8cabb3fa
X-WR-CALDESC:
X-WR-RELCALID:18c9c85e726bda117fee232535eacabb
X-WR-TIMEZONE:America/Denver
BEGIN:VTIMEZONE
TZID:America/Denver
BEGIN:STANDARD
TZNAME:MST
DTSTART:20241103T020000
TZOFFSETFROM:-0600
TZOFFSETTO:-0700
RDATE:20251102T020000
RDATE:20261101T020000
END:STANDARD
BEGIN:DAYLIGHT
TZNAME:MDT
DTSTART:20250309T020000
TZOFFSETFROM:-0700
TZOFFSETTO:-0600
RDATE:20260308T020000
END:DAYLIGHT
END:VTIMEZONE
BEGIN:VEVENT
UID:068c4acf-3dfc-4297-884f-d72488ce3f0f
DTSTAMP:20260424T094743Z
DESCRIPTION:
DTSTART;TZID=America/Denver:20250504T130000
DTEND;TZID=America/Denver:20250504T160000
LOCATION:
SUMMARY:Pinochle
END:VEVENT
END:VCALENDAR
