BEGIN:VCALENDAR
VERSION:2.0
PRODID:-//www.rmdc.net//NONSGML kigkonsult.se iCalcreator 2.30.10//
CALSCALE:GREGORIAN
METHOD:PUBLISH
UID:d991e5a3-8e39-42b3-8158-6b68ec36bd2a
X-WR-CALDESC:
X-WR-RELCALID:5b00c83ccba3dc6048a3ac5883c2a06e
X-WR-TIMEZONE:America/Denver
BEGIN:VTIMEZONE
TZID:America/Denver
BEGIN:STANDARD
TZNAME:MST
DTSTART:20241103T020000
TZOFFSETFROM:-0600
TZOFFSETTO:-0700
RDATE:20251102T020000
RDATE:20261101T020000
END:STANDARD
BEGIN:DAYLIGHT
TZNAME:MDT
DTSTART:20250309T020000
TZOFFSETFROM:-0700
TZOFFSETTO:-0600
RDATE:20260308T020000
END:DAYLIGHT
END:VTIMEZONE
BEGIN:VEVENT
UID:72b4d50d-e7d2-448c-a018-7385eacac1ea
DTSTAMP:20260424T095230Z
DESCRIPTION:
DTSTART;TZID=America/Denver:20250525T130000
DTEND;TZID=America/Denver:20250525T160000
LOCATION:
SUMMARY:Pinochle
END:VEVENT
END:VCALENDAR
