BEGIN:VCALENDAR
VERSION:2.0
PRODID:-//www.rmdc.net//NONSGML kigkonsult.se iCalcreator 2.30.10//
CALSCALE:GREGORIAN
METHOD:PUBLISH
UID:78f1f569-a1f9-4df2-8c22-888ab5f67a28
X-WR-CALDESC:
X-WR-RELCALID:1ff057ed1612870a552a7de9533e5f9e
X-WR-TIMEZONE:America/Denver
BEGIN:VTIMEZONE
TZID:America/Denver
BEGIN:STANDARD
TZNAME:MST
DTSTART:20241103T020000
TZOFFSETFROM:-0600
TZOFFSETTO:-0700
RDATE:20251102T020000
RDATE:20261101T020000
END:STANDARD
BEGIN:DAYLIGHT
TZNAME:MDT
DTSTART:20250309T020000
TZOFFSETFROM:-0700
TZOFFSETTO:-0600
RDATE:20260308T020000
END:DAYLIGHT
END:VTIMEZONE
BEGIN:VEVENT
UID:22c467e5-bd9b-4996-b442-c3c73b5c9887
DTSTAMP:20260424T082338Z
DESCRIPTION:
DTSTART;TZID=America/Denver:20250615T130000
DTEND;TZID=America/Denver:20250615T160000
LOCATION:
SUMMARY:Pinochle
END:VEVENT
END:VCALENDAR
