BEGIN:VCALENDAR
VERSION:2.0
PRODID:-//www.rmdc.net//NONSGML kigkonsult.se iCalcreator 2.30.10//
CALSCALE:GREGORIAN
METHOD:PUBLISH
UID:93ed73f7-7d7a-4b5d-a927-11cf1a51bffa
X-WR-CALDESC:
X-WR-RELCALID:3ef00efd08e45855b063367510e93d91
X-WR-TIMEZONE:America/Denver
BEGIN:VTIMEZONE
TZID:America/Denver
BEGIN:STANDARD
TZNAME:MST
DTSTART:20241103T020000
TZOFFSETFROM:-0600
TZOFFSETTO:-0700
RDATE:20251102T020000
RDATE:20261101T020000
END:STANDARD
BEGIN:DAYLIGHT
TZNAME:MDT
DTSTART:20250309T020000
TZOFFSETFROM:-0700
TZOFFSETTO:-0600
RDATE:20260308T020000
END:DAYLIGHT
END:VTIMEZONE
BEGIN:VEVENT
UID:0ed8f47c-a59f-459b-a627-0e1314665e77
DTSTAMP:20260424T082233Z
DESCRIPTION:
DTSTART;TZID=America/Denver:20250622T130000
DTEND;TZID=America/Denver:20250622T160000
LOCATION:
SUMMARY:Pinochle
END:VEVENT
END:VCALENDAR
