BEGIN:VCALENDAR
VERSION:2.0
PRODID:-//www.rmdc.net//NONSGML kigkonsult.se iCalcreator 2.30.10//
CALSCALE:GREGORIAN
METHOD:PUBLISH
UID:2af4b19d-9c30-4852-b060-54c0cf8c38e8
X-WR-CALDESC:
X-WR-RELCALID:eebf0cdd93f2c8cce888a503baf23e9b
X-WR-TIMEZONE:America/Denver
BEGIN:VTIMEZONE
TZID:America/Denver
BEGIN:STANDARD
TZNAME:MST
DTSTART:20241103T020000
TZOFFSETFROM:-0600
TZOFFSETTO:-0700
RDATE:20251102T020000
RDATE:20261101T020000
END:STANDARD
BEGIN:DAYLIGHT
TZNAME:MDT
DTSTART:20250309T020000
TZOFFSETFROM:-0700
TZOFFSETTO:-0600
RDATE:20260308T020000
END:DAYLIGHT
END:VTIMEZONE
BEGIN:VEVENT
UID:4e790d67-0a20-4b49-8b21-5adfc7e1ffb1
DTSTAMP:20260424T065055Z
DESCRIPTION:
DTSTART;TZID=America/Denver:20250720T130000
DTEND;TZID=America/Denver:20250720T160000
LOCATION:
SUMMARY:Pinochle
END:VEVENT
END:VCALENDAR
