BEGIN:VCALENDAR
VERSION:2.0
PRODID:-//www.rmdc.net//NONSGML kigkonsult.se iCalcreator 2.30.10//
CALSCALE:GREGORIAN
METHOD:PUBLISH
UID:aefd3e2e-5eb0-4bec-bede-e193f8e8a95d
X-WR-CALDESC:
X-WR-RELCALID:7e4cd2ad2c23b6716a7a2034394f7170
X-WR-TIMEZONE:America/Denver
BEGIN:VTIMEZONE
TZID:America/Denver
BEGIN:STANDARD
TZNAME:MST
DTSTART:20241103T020000
TZOFFSETFROM:-0600
TZOFFSETTO:-0700
RDATE:20251102T020000
RDATE:20261101T020000
END:STANDARD
BEGIN:DAYLIGHT
TZNAME:MDT
DTSTART:20250309T020000
TZOFFSETFROM:-0700
TZOFFSETTO:-0600
RDATE:20260308T020000
END:DAYLIGHT
END:VTIMEZONE
BEGIN:VEVENT
UID:7410ccb4-05d0-41e0-b4aa-d06c65226d5f
DTSTAMP:20260424T034729Z
DESCRIPTION:
DTSTART;TZID=America/Denver:20250907T130000
DTEND;TZID=America/Denver:20250907T160000
LOCATION:
SUMMARY:Pinochle
END:VEVENT
END:VCALENDAR
