BEGIN:VCALENDAR
VERSION:2.0
PRODID:-//www.rmdc.net//NONSGML kigkonsult.se iCalcreator 2.30.10//
CALSCALE:GREGORIAN
METHOD:PUBLISH
UID:b4672e5a-4bbd-4595-a5e1-1c11d36d2b1f
X-WR-CALDESC:
X-WR-RELCALID:f6fc5a9131ca528c98c3a0c8c9cd3090
X-WR-TIMEZONE:America/Denver
BEGIN:VTIMEZONE
TZID:America/Denver
BEGIN:STANDARD
TZNAME:MST
DTSTART:20241103T020000
TZOFFSETFROM:-0600
TZOFFSETTO:-0700
RDATE:20251102T020000
RDATE:20261101T020000
END:STANDARD
BEGIN:DAYLIGHT
TZNAME:MDT
DTSTART:20250309T020000
TZOFFSETFROM:-0700
TZOFFSETTO:-0600
RDATE:20260308T020000
RDATE:20270314T020000
END:DAYLIGHT
END:VTIMEZONE
BEGIN:VEVENT
UID:fac0989a-c8fe-4fc1-ad9a-c479370df6b4
DTSTAMP:20260424T034104Z
DESCRIPTION:
DTSTART;TZID=America/Denver:20250928T130000
DTEND;TZID=America/Denver:20250928T160000
LOCATION:
SUMMARY:Pinochle
END:VEVENT
END:VCALENDAR
