BEGIN:VCALENDAR
VERSION:2.0
PRODID:-//www.rmdc.net//NONSGML kigkonsult.se iCalcreator 2.30.10//
CALSCALE:GREGORIAN
METHOD:PUBLISH
UID:4c0d082b-9531-4b3e-a208-e72685d8c1fc
X-WR-CALDESC:
X-WR-RELCALID:98c889bf4c9846dff9167345e6029889
X-WR-TIMEZONE:America/Denver
BEGIN:VTIMEZONE
TZID:America/Denver
BEGIN:STANDARD
TZNAME:MST
DTSTART:20241103T020000
TZOFFSETFROM:-0600
TZOFFSETTO:-0700
RDATE:20251102T020000
RDATE:20261101T020000
END:STANDARD
BEGIN:DAYLIGHT
TZNAME:MDT
DTSTART:20250309T020000
TZOFFSETFROM:-0700
TZOFFSETTO:-0600
RDATE:20260308T020000
RDATE:20270314T020000
END:DAYLIGHT
END:VTIMEZONE
BEGIN:VEVENT
UID:7dae88ba-2793-4e37-9dc0-197cc0df7a66
DTSTAMP:20260423T221914Z
DESCRIPTION:
DTSTART;TZID=America/Denver:20251005T130000
DTEND;TZID=America/Denver:20251005T160000
LOCATION:
SUMMARY:Pinochle
END:VEVENT
END:VCALENDAR
