BEGIN:VCALENDAR
VERSION:2.0
PRODID:-//www.rmdc.net//NONSGML kigkonsult.se iCalcreator 2.30.10//
CALSCALE:GREGORIAN
METHOD:PUBLISH
UID:32bd2da9-8d5e-4f16-81eb-09a9feab2419
X-WR-CALDESC:
X-WR-RELCALID:72f08863ab32cd6d806c7ce83f7bc565
X-WR-TIMEZONE:America/Denver
BEGIN:VTIMEZONE
TZID:America/Denver
BEGIN:STANDARD
TZNAME:MST
DTSTART:20251102T020000
TZOFFSETFROM:-0600
TZOFFSETTO:-0700
RDATE:20261101T020000
END:STANDARD
BEGIN:DAYLIGHT
TZNAME:MDT
DTSTART:20250309T020000
TZOFFSETFROM:-0700
TZOFFSETTO:-0600
RDATE:20260308T020000
RDATE:20270314T020000
END:DAYLIGHT
END:VTIMEZONE
BEGIN:VEVENT
UID:a67a9e49-ff11-43e6-a357-4bd48d3cc57c
DTSTAMP:20260423T205859Z
DESCRIPTION:
DTSTART;TZID=America/Denver:20251109T130000
DTEND;TZID=America/Denver:20251109T160000
LOCATION:
SUMMARY:Pinochle
END:VEVENT
END:VCALENDAR
