BEGIN:VCALENDAR
VERSION:2.0
PRODID:-//www.rmdc.net//NONSGML kigkonsult.se iCalcreator 2.30.10//
CALSCALE:GREGORIAN
METHOD:PUBLISH
UID:0de68277-0261-4ec8-8b1e-94596f3c41e6
X-WR-CALDESC:
X-WR-RELCALID:71c6d8e71a2bde65a2212a150b6152e1
X-WR-TIMEZONE:America/Denver
BEGIN:VTIMEZONE
TZID:America/Denver
BEGIN:STANDARD
TZNAME:MST
DTSTART:20251102T020000
TZOFFSETFROM:-0600
TZOFFSETTO:-0700
RDATE:20261101T020000
END:STANDARD
BEGIN:DAYLIGHT
TZNAME:MDT
DTSTART:20250309T020000
TZOFFSETFROM:-0700
TZOFFSETTO:-0600
RDATE:20260308T020000
RDATE:20270314T020000
END:DAYLIGHT
END:VTIMEZONE
BEGIN:VEVENT
UID:413213fd-3a0c-49b3-bd8c-6ef3b6d6ba06
DTSTAMP:20260423T205927Z
DESCRIPTION:
DTSTART;TZID=America/Denver:20251123T130000
DTEND;TZID=America/Denver:20251123T160000
LOCATION:
SUMMARY:Pinochle
END:VEVENT
END:VCALENDAR
