BEGIN:VCALENDAR
VERSION:2.0
PRODID:-//www.rmdc.net//NONSGML kigkonsult.se iCalcreator 2.30.10//
CALSCALE:GREGORIAN
METHOD:PUBLISH
UID:35056e68-3fef-466c-993d-bb6521426826
X-WR-CALDESC:
X-WR-RELCALID:aa1943f25dfaff6d71aa8a945183928c
X-WR-TIMEZONE:America/Denver
BEGIN:VTIMEZONE
TZID:America/Denver
BEGIN:STANDARD
TZNAME:MST
DTSTART:20251102T020000
TZOFFSETFROM:-0600
TZOFFSETTO:-0700
RDATE:20261101T020000
END:STANDARD
BEGIN:DAYLIGHT
TZNAME:MDT
DTSTART:20250309T020000
TZOFFSETFROM:-0700
TZOFFSETTO:-0600
RDATE:20260308T020000
RDATE:20270314T020000
END:DAYLIGHT
END:VTIMEZONE
BEGIN:VEVENT
UID:356a4d07-9f0f-4eaf-ac0d-bda829dfc55d
DTSTAMP:20260423T192926Z
DESCRIPTION:
DTSTART;TZID=America/Denver:20251214T130000
DTEND;TZID=America/Denver:20251214T160000
LOCATION:
SUMMARY:Pinochle
END:VEVENT
END:VCALENDAR
