BEGIN:VCALENDAR
VERSION:2.0
PRODID:-//www.rmdc.net//NONSGML kigkonsult.se iCalcreator 2.30.10//
CALSCALE:GREGORIAN
METHOD:PUBLISH
UID:2e6c3d52-a094-45a8-ad6f-e284b1d5b644
X-WR-CALDESC:
X-WR-RELCALID:95cbfe6e347812be737776c2d04bbba2
X-WR-TIMEZONE:America/Denver
BEGIN:VTIMEZONE
TZID:America/Denver
BEGIN:STANDARD
TZNAME:MST
DTSTART:20251102T020000
TZOFFSETFROM:-0600
TZOFFSETTO:-0700
RDATE:20261101T020000
END:STANDARD
BEGIN:DAYLIGHT
TZNAME:MDT
DTSTART:20250309T020000
TZOFFSETFROM:-0700
TZOFFSETTO:-0600
RDATE:20260308T020000
RDATE:20270314T020000
END:DAYLIGHT
END:VTIMEZONE
BEGIN:VEVENT
UID:9f2e3058-f597-4914-9688-d7d7ba7ddcfd
DTSTAMP:20260423T180331Z
DESCRIPTION:
DTSTART;TZID=America/Denver:20260104T130000
DTEND;TZID=America/Denver:20260104T160000
LOCATION:
SUMMARY:Pinochle
END:VEVENT
END:VCALENDAR
