BEGIN:VCALENDAR
VERSION:2.0
PRODID:-//www.rmdc.net//NONSGML kigkonsult.se iCalcreator 2.30.10//
CALSCALE:GREGORIAN
METHOD:PUBLISH
UID:80cfbe11-b8d1-4bec-b407-87157a6ec616
X-WR-CALDESC:
X-WR-RELCALID:9127f53540cbf31aade70a3dca7f2188
X-WR-TIMEZONE:America/Denver
BEGIN:VTIMEZONE
TZID:America/Denver
BEGIN:STANDARD
TZNAME:MST
DTSTART:20251102T020000
TZOFFSETFROM:-0600
TZOFFSETTO:-0700
RDATE:20261101T020000
END:STANDARD
BEGIN:DAYLIGHT
TZNAME:MDT
DTSTART:20250309T020000
TZOFFSETFROM:-0700
TZOFFSETTO:-0600
RDATE:20260308T020000
RDATE:20270314T020000
END:DAYLIGHT
END:VTIMEZONE
BEGIN:VEVENT
UID:6d8573c6-a0f7-43f5-bb59-a94b8828feac
DTSTAMP:20260423T145232Z
DESCRIPTION:
DTSTART;TZID=America/Denver:20260308T130000
DTEND;TZID=America/Denver:20260308T160000
LOCATION:
SUMMARY:Pinochle
END:VEVENT
END:VCALENDAR
