BEGIN:VCALENDAR
VERSION:2.0
PRODID:-//www.rmdc.net//NONSGML kigkonsult.se iCalcreator 2.30.10//
CALSCALE:GREGORIAN
METHOD:PUBLISH
UID:d646c7ef-10d1-445c-9346-f072715489a4
X-WR-CALDESC:
X-WR-RELCALID:bec2787c24604bdf648b8412083942a0
X-WR-TIMEZONE:America/Denver
BEGIN:VTIMEZONE
TZID:America/Denver
BEGIN:STANDARD
TZNAME:MST
DTSTART:20251102T020000
TZOFFSETFROM:-0600
TZOFFSETTO:-0700
RDATE:20261101T020000
END:STANDARD
BEGIN:DAYLIGHT
TZNAME:MDT
DTSTART:20260308T020000
TZOFFSETFROM:-0700
TZOFFSETTO:-0600
RDATE:20270314T020000
END:DAYLIGHT
END:VTIMEZONE
BEGIN:VEVENT
UID:160c2094-bf3f-4146-a86f-5e1bfbc2f7ab
DTSTAMP:20260423T145421Z
DESCRIPTION:
DTSTART;TZID=America/Denver:20260322T130000
DTEND;TZID=America/Denver:20260322T160000
LOCATION:
SUMMARY:Pinochle
END:VEVENT
END:VCALENDAR
