BEGIN:VCALENDAR
VERSION:2.0
PRODID:-//www.rmdc.net//NONSGML kigkonsult.se iCalcreator 2.30.10//
CALSCALE:GREGORIAN
METHOD:PUBLISH
UID:c9def701-f146-4e88-b0a6-446db8d123e6
X-WR-CALDESC:
X-WR-RELCALID:d3d3ce9d30074b7921389c3b724d7a08
X-WR-TIMEZONE:America/Denver
BEGIN:VTIMEZONE
TZID:America/Denver
BEGIN:STANDARD
TZNAME:MST
DTSTART:20251102T020000
TZOFFSETFROM:-0600
TZOFFSETTO:-0700
RDATE:20261101T020000
RDATE:20271107T020000
END:STANDARD
BEGIN:DAYLIGHT
TZNAME:MDT
DTSTART:20260308T020000
TZOFFSETFROM:-0700
TZOFFSETTO:-0600
RDATE:20270314T020000
END:DAYLIGHT
END:VTIMEZONE
BEGIN:VEVENT
UID:fd23c679-fc10-46fd-9938-366c40591e74
DTSTAMP:20260423T193439Z
DESCRIPTION:
DTSTART;TZID=America/Denver:20260809T130000
DTEND;TZID=America/Denver:20260809T160000
LOCATION:
SUMMARY:Pinochle
END:VEVENT
END:VCALENDAR
