BEGIN:VCALENDAR
VERSION:2.0
PRODID:-//www.rmdc.net//NONSGML kigkonsult.se iCalcreator 2.30.10//
CALSCALE:GREGORIAN
METHOD:PUBLISH
UID:4ae1d74b-7692-4e89-bec8-689aa99d0e14
X-WR-CALDESC:
X-WR-RELCALID:2bc6682749b13438ef51a47b3059d9b8
X-WR-TIMEZONE:America/Denver
BEGIN:VTIMEZONE
TZID:America/Denver
BEGIN:STANDARD
TZNAME:MST
DTSTART:20251102T020000
TZOFFSETFROM:-0600
TZOFFSETTO:-0700
RDATE:20261101T020000
RDATE:20271107T020000
END:STANDARD
BEGIN:DAYLIGHT
TZNAME:MDT
DTSTART:20260308T020000
TZOFFSETFROM:-0700
TZOFFSETTO:-0600
RDATE:20270314T020000
END:DAYLIGHT
END:VTIMEZONE
BEGIN:VEVENT
UID:82476329-1933-431a-b82c-ffa76350561d
DTSTAMP:20260423T192652Z
DESCRIPTION:
DTSTART;TZID=America/Denver:20260816T130000
DTEND;TZID=America/Denver:20260816T160000
LOCATION:
SUMMARY:Pinochle
END:VEVENT
END:VCALENDAR
