BEGIN:VCALENDAR
VERSION:2.0
PRODID:-//www.rmdc.net//NONSGML kigkonsult.se iCalcreator 2.30.10//
CALSCALE:GREGORIAN
METHOD:PUBLISH
UID:68fde6eb-ed74-4ab8-9c7b-7f4139b7ec17
X-WR-CALDESC:
X-WR-RELCALID:400af0ebd494499acbf4a6271f34a584
X-WR-TIMEZONE:America/Denver
BEGIN:VTIMEZONE
TZID:America/Denver
BEGIN:STANDARD
TZNAME:MST
DTSTART:20251102T020000
TZOFFSETFROM:-0600
TZOFFSETTO:-0700
RDATE:20261101T020000
RDATE:20271107T020000
END:STANDARD
BEGIN:DAYLIGHT
TZNAME:MDT
DTSTART:20260308T020000
TZOFFSETFROM:-0700
TZOFFSETTO:-0600
RDATE:20270314T020000
RDATE:20280312T020000
END:DAYLIGHT
END:VTIMEZONE
BEGIN:VEVENT
UID:26b50bde-6704-437a-affb-50ea1a3be670
DTSTAMP:20260423T204138Z
DESCRIPTION:
DTSTART;TZID=America/Denver:20260913T130000
DTEND;TZID=America/Denver:20260913T160000
LOCATION:
SUMMARY:Pinochle
END:VEVENT
END:VCALENDAR
