BEGIN:VCALENDAR
VERSION:2.0
PRODID:-//www.rmdc.net//NONSGML kigkonsult.se iCalcreator 2.30.10//
CALSCALE:GREGORIAN
METHOD:PUBLISH
UID:00a99f63-9c57-41fc-8117-6798ebe77718
X-WR-CALDESC:
X-WR-RELCALID:565e9bc8c83fddfc6ec00bd56ee2de54
X-WR-TIMEZONE:America/Denver
BEGIN:VTIMEZONE
TZID:America/Denver
BEGIN:STANDARD
TZNAME:MST
DTSTART:20261101T020000
TZOFFSETFROM:-0600
TZOFFSETTO:-0700
RDATE:20271107T020000
END:STANDARD
BEGIN:DAYLIGHT
TZNAME:MDT
DTSTART:20260308T020000
TZOFFSETFROM:-0700
TZOFFSETTO:-0600
RDATE:20270314T020000
RDATE:20280312T020000
END:DAYLIGHT
END:VTIMEZONE
BEGIN:VEVENT
UID:8b76cd05-69c3-4d67-be9c-a0c0c3fc48df
DTSTAMP:20260424T005205Z
DESCRIPTION:
DTSTART;TZID=America/Denver:20261213T130000
DTEND;TZID=America/Denver:20261213T160000
LOCATION:
SUMMARY:Pinochle
END:VEVENT
END:VCALENDAR
