BEGIN:VCALENDAR
VERSION:2.0
PRODID:-//www.rmdc.net//NONSGML kigkonsult.se iCalcreator 2.30.10//
CALSCALE:GREGORIAN
METHOD:PUBLISH
UID:d4b326d0-597b-471f-a7ce-d9d4a544dffd
X-WR-CALDESC:
X-WR-RELCALID:e46d818412ec50a3458482cdc6758444
X-WR-TIMEZONE:America/Denver
BEGIN:VTIMEZONE
TZID:America/Denver
BEGIN:STANDARD
TZNAME:MST
DTSTART:20261101T020000
TZOFFSETFROM:-0600
TZOFFSETTO:-0700
RDATE:20271107T020000
END:STANDARD
BEGIN:DAYLIGHT
TZNAME:MDT
DTSTART:20260308T020000
TZOFFSETFROM:-0700
TZOFFSETTO:-0600
RDATE:20270314T020000
RDATE:20280312T020000
END:DAYLIGHT
END:VTIMEZONE
BEGIN:VEVENT
UID:c40a06f1-088a-405c-9095-09377d6c1abc
DTSTAMP:20260424T034505Z
DESCRIPTION:
DTSTART;TZID=America/Denver:20270207T130000
DTEND;TZID=America/Denver:20270207T160000
LOCATION:
SUMMARY:Pinochle
END:VEVENT
END:VCALENDAR
