BEGIN:VCALENDAR
VERSION:2.0
PRODID:-//www.rmdc.net//NONSGML kigkonsult.se iCalcreator 2.30.10//
CALSCALE:GREGORIAN
METHOD:PUBLISH
UID:2e94ede1-dd58-424f-a58e-6a98ebc0631a
X-WR-CALDESC:
X-WR-RELCALID:1e240c7d9d72a556186d74fa14e44da2
X-WR-TIMEZONE:America/Denver
BEGIN:VTIMEZONE
TZID:America/Denver
BEGIN:STANDARD
TZNAME:MST
DTSTART:20261101T020000
TZOFFSETFROM:-0600
TZOFFSETTO:-0700
RDATE:20271107T020000
END:STANDARD
BEGIN:DAYLIGHT
TZNAME:MDT
DTSTART:20260308T020000
TZOFFSETFROM:-0700
TZOFFSETTO:-0600
RDATE:20270314T020000
RDATE:20280312T020000
END:DAYLIGHT
END:VTIMEZONE
BEGIN:VEVENT
UID:12aebce8-820b-465a-bc54-e08258d00868
DTSTAMP:20260424T050731Z
DESCRIPTION:
DTSTART;TZID=America/Denver:20270307T130000
DTEND;TZID=America/Denver:20270307T160000
LOCATION:
SUMMARY:Pinochle
END:VEVENT
END:VCALENDAR
