BEGIN:VCALENDAR
VERSION:2.0
PRODID:-//www.rmdc.net//NONSGML kigkonsult.se iCalcreator 2.30.10//
CALSCALE:GREGORIAN
METHOD:PUBLISH
UID:c108469e-a157-41ad-8822-631b7fc8ee51
X-WR-CALDESC:
X-WR-RELCALID:2b36f7dc459e8b47de14f0ed4b39f2c5
X-WR-TIMEZONE:America/Denver
BEGIN:VTIMEZONE
TZID:America/Denver
BEGIN:STANDARD
TZNAME:MST
DTSTART:20261101T020000
TZOFFSETFROM:-0600
TZOFFSETTO:-0700
RDATE:20271107T020000
END:STANDARD
BEGIN:DAYLIGHT
TZNAME:MDT
DTSTART:20270314T020000
TZOFFSETFROM:-0700
TZOFFSETTO:-0600
RDATE:20280312T020000
END:DAYLIGHT
END:VTIMEZONE
BEGIN:VEVENT
UID:e2ce743d-80b9-4d5f-b08d-ef3d7fd3338c
DTSTAMP:20260424T050709Z
DESCRIPTION:
DTSTART;TZID=America/Denver:20270317T130000
DTEND;TZID=America/Denver:20270317T150000
LOCATION:Dining Room
SUMMARY:Bingo
END:VEVENT
END:VCALENDAR
