BEGIN:VCALENDAR
VERSION:2.0
PRODID:-//www.rmdc.net//NONSGML kigkonsult.se iCalcreator 2.30.10//
CALSCALE:GREGORIAN
METHOD:PUBLISH
UID:16de0521-187b-4901-964f-f1ba7cff1273
X-WR-CALDESC:
X-WR-RELCALID:e56269abaa2caf159838bba743fcc4ea
X-WR-TIMEZONE:America/Denver
BEGIN:VTIMEZONE
TZID:America/Denver
BEGIN:STANDARD
TZNAME:MST
DTSTART:20261101T020000
TZOFFSETFROM:-0600
TZOFFSETTO:-0700
RDATE:20271107T020000
END:STANDARD
BEGIN:DAYLIGHT
TZNAME:MDT
DTSTART:20270314T020000
TZOFFSETFROM:-0700
TZOFFSETTO:-0600
RDATE:20280312T020000
END:DAYLIGHT
END:VTIMEZONE
BEGIN:VEVENT
UID:1785d7ae-4201-4573-acdc-5c2660fee42e
DTSTAMP:20260424T050335Z
DESCRIPTION:
DTSTART;TZID=America/Denver:20270321T130000
DTEND;TZID=America/Denver:20270321T160000
LOCATION:
SUMMARY:Pinochle
END:VEVENT
END:VCALENDAR
